BEGIN:VCALENDAR
VERSION:2.0
PRODID:spatie/icalendar-generator
DESCRIPTION:Veranstaltungen von Lauftreff \"Rennschnecke\" Dudweiler e.V.
X-WR-CALDESC:Veranstaltungen von Lauftreff \"Rennschnecke\" Dudweiler e.V.
REFRESH-INTERVAL;VALUE=DURATION:PT1440M
X-PUBLISHED-TTL:PT1440M
BEGIN:VTIMEZONE
TZID:Europe/Berlin
BEGIN:STANDARD
DTSTART:20251026T030000Z
TZOFFSETFROM:+0200
TZOFFSETTO:+0100
END:STANDARD
BEGIN:DAYLIGHT
DTSTART:20260329T020000Z
TZOFFSETFROM:+0100
TZOFFSETTO:+0200
END:DAYLIGHT
BEGIN:STANDARD
DTSTART:20261025T030000Z
TZOFFSETFROM:+0200
TZOFFSETTO:+0100
END:STANDARD
END:VTIMEZONE
BEGIN:VTIMEZONE
TZID:UTC
BEGIN:STANDARD
DTSTART:20250728T153654Z
TZOFFSETFROM:+0000
TZOFFSETTO:+0000
END:STANDARD
END:VTIMEZONE
BEGIN:VEVENT
UID:36-20
DTSTAMP:20260424T153654Z
SUMMARY:3. Spendenlauf LT Phoenix Dudweiler
LOCATION:
ORGANIZER;CN=Roland Petto:MAILTO:rolandpetto@gmail.com
DTSTART;TZID=Europe/Berlin;VALUE=DATE:20260612
DTEND;TZID=Europe/Berlin;VALUE=DATE:20260613
X-ALT-DESC;FMTTYPE=TEXT/HTML:Rundenlauf &amp;nbsp\;
CATEGORIES:Laufevent
URL;VALUE=URI:https://rennschnecke-dudweiler.de/mc-events/3-spendenlauf-lt-
 phoenix-dudweiler/
METHOD:PUBLISH
END:VEVENT
END:VCALENDAR